Workbook
Name _Fill: #REF!
Name _Fill: #REF!
Name _Fill: #REF!
Name _Key1: #REF!
Name _Key1: #REF!
Name _Key1: #REF!
Name _Key2: #REF!
Name _Key2: #REF!
Name _Sort: #REF!
Name _Sort: #REF!
Name _Table1_In1: #REF!
Name _Table1_Out: #REF!
Name _Table2_In1: #REF!
Name _Table2_In2: #REF!
Name _Table2_Out: #REF!
Name A: #REF!
Name AA: #REF!
Name AAA: #REF!
Name asa: #REF!
Name b: #REF!
Name Cash: #REF!
Name Data: '[1]P-FIS'!$A$13:$G$58
Name Database_MI: #REF!
Name Database_MI: #REF!
Name IQ_CH: 110000
Name IQ_CQ: 5000
Name IQ_CY: 10000
Name IQ_DAILY: 500000
Name IQ_FH: 100000
Name IQ_FQ: 500
Name IQ_FY: 1000
Name IQ_LTM: 2000
Name IQ_MONTH: 15000
Name IQ_NTM: 6000
Name IQ_WEEK: 50000
Name IQ_YTD: 3000
Name JUDULNOTE: #REF!
Name kas: '[2]P-FIS'!$E$12:$Y$58
Name LAMP: #REF!
Name LAMP: #REF!
Name LAMP: #REF!
Name LR: #REF!
Name LR: #REF!
Name MMM: #REF!
Name MMM: #REF!
Name NAME: #REF!
Name NN: #REF!
Name NOTE: #REF!
Name NRC: #REF!
Name PRINT_AREA_MI: #REF!
Name Print_Area2: #REF!
Name PRINT_TITLES_MI: #REF!
Name saja: #REF!
Name sda: #REF!
Name V: #REF!
Name XPC: #REF!
Name XPC.: #REF!
Name XPCLR: #REF!
Name yuny: #REF!

Sheet Assumptions
A1: All figures in INR wherever applicable
A2: Assumptions | D2: 1 | E2: =D2+1 -> 2 | F2: =E2+1 -> 3 | G2: =F2+1 -> 4 | H2: =G2+1 -> 5 | I2: =H2+1 -> 6 | J2: =I2+1 -> 7 | K2: =J2+1 -> 8 | L2: =K2+1 -> 9 | ... BK2: =BJ2+1 -> 60 | BN2: 1 | BO2: =BN2+1 -> 2 | BP2: =BO2+1 -> 3 | BQ2: =BP2+1 -> 4 | BR2: =BQ2+1 -> 5
A4: Particulars | B4: Unit | C4: Input
A6: General
A7: Months in an year | B7: # | C7: 12 | F7: 18 months tenure
A10: Revenue
A12: Product sales
A14: No. of Branches | B14: # | D14: =ROUNDUP($BN$14/12,0) -> 2 | E14: =ROUNDUP($BN$14/12,0) -> 2 | F14: =ROUNDUP($BN$14/12,0) -> 2 | G14: =ROUNDUP($BN$14/12,0) -> 2 | H14: =ROUNDUP($BN$14/12,0) -> 2 | I14: =ROUNDUP($BN$14/12,0) -> 2 | J14: =ROUNDUP($BN$14/12,0) -> 2 | K14: =ROUNDUP($BN$14/12,0) -> 2 | ... O14: =ROUNDUP($BN$14/12,0) -> 2 | P14: =ROUNDUP($BO$14/12,0) -> 3 | Q14: =ROUNDUP($BO$14/12,0) -> 3 | R14: =ROUNDUP($BO$14/12,0) -> 3 | S14: =ROUNDUP($BO$14/12,0) -> 3 | T14: =ROUNDUP($BO$14/12,0) -> 3 | U14: =ROUNDUP($BO$14/12,0) -> 3 | V14: =ROUNDUP($BO$14/12,0) -> 3 | W14: =ROUNDUP($BO$14/12,0) -> 3 | ... AA14: =ROUNDUP($BO$14/12,0) -> 3 | AB14: =ROUNDUP($BP$14/12,0) -> 3 | AC14: =ROUNDUP($BP$14/12,0) -> 3 | AD14: =ROUNDUP($BP$14/12,0) -> 3 | AE14: =ROUNDUP($BP$14/12,0) -> 3 | AF14: =ROUNDUP($BP$14/12,0) -> 3 | AG14: =ROUNDUP($BP$14/12,0) -> 3 | AH14: =ROUNDUP($BP$14/12,0) -> 3 | AI14: =ROUNDUP($BP$14/12,0) -> 3 | ... AM14: =ROUNDUP($BP$14/12,0) -> 3 | AN14: =ROUNDUP($BQ$14/12,0) -> 4 | AO14: =ROUNDUP($BQ$14/12,0) -> 4 | AP14: =ROUNDUP($BQ$14/12,0) -> 4 | AQ14: =ROUNDUP($BQ$14/12,0) -> 4 | AR14: =ROUNDUP($BQ$14/12,0) -> 4 | AS14: =ROUNDUP($BQ$14/12,0) -> 4 | AT14: =ROUNDUP($BQ$14/12,0) -> 4 | AU14: =ROUNDUP($BQ$14/12,0) -> 4 | ... AY14: =ROUNDUP($BQ$14/12,0) -> 4 | AZ14: =ROUNDUP($BR$14/12,0) -> 4 | BA14: =ROUNDUP($BR$14/12,0) -> 4 | BB14: =ROUNDUP($BR$14/12,0) -> 4 | BC14: =ROUNDUP($BR$14/12,0) -> 4 | BD14: =ROUNDUP($BR$14/12,0) -> 4 | BE14: =ROUNDUP($BR$14/12,0) -> 4 | BF14: =ROUNDUP($BR$14/12,0) -> 4 | BG14: =ROUNDUP($BR$14/12,0) -> 4 | ... BK14: =ROUNDUP($BR$14/12,0) -> 4 | BN14: 20 | BO14: 25 | BP14: 30 | BQ14: 40 | BR14: 40
A15: Cumulative number of branches | B15: # | D15: =D14 -> 2 | E15: =E14+D15 -> 4 | F15: =F14+E15 -> 6 | G15: =G14+F15 -> 8 | H15: =H14+G15 -> 10 | I15: =I14+H15 -> 12 | J15: =J14+I15 -> 14 | K15: =K14+J15 -> 16 | L15: =L14+K15 -> 18 | ... BK15: =BK14+BJ15 -> 192 | BN15: =O15 -> 24 | BO15: =AA15 -> 60 | BP15: =AM15 -> 96 | BQ15: =AY15 -> 144 | BR15: =BK15 -> 192
A16: Loans per month per branch | B16: # | D16: 20 | E16: =ROUNDUP(D16+D16*10%,0) -> 22 | F16: =ROUNDUP(E16+E16*10%,0) -> 25 | G16: =ROUNDUP(F16+F16*10%,0) -> 28 | H16: =ROUNDUP(G16+G16*10%,0) -> 31 | I16: =ROUNDUP(H16+H16*10%,0) -> 35 | J16: =ROUNDUP(I16+I16*10%,0) -> 39 | K16: =ROUNDUP(J16+J16*10%,0) -> 43 | L16: =ROUNDUP(K16+K16*10%,0) -> 48 | ... AM16: =ROUNDUP(AL16+AL16*10%,0) -> 675 | AN16: =ROUNDUP(AM16+AM16*2%,0) -> 689 | AO16: =ROUNDUP(AN16+AN16*2%,0) -> 703 | AP16: =ROUNDUP(AO16+AO16*2%,0) -> 718 | AQ16: =ROUNDUP(AP16+AP16*2%,0) -> 733 | AR16: =ROUNDUP(AQ16+AQ16*2%,0) -> 748 | AS16: =ROUNDUP(AR16+AR16*2%,0) -> 763 | AT16: =ROUNDUP(AS16+AS16*2%,0) -> 779 | AU16: =ROUNDUP(AT16+AT16*2%,0) -> 795 | ... BK16: =ROUNDUP(BJ16+BJ16*2%,0) -> 1100 | BN16: =SUM(D16:O16) -> 468 | BO16: =SUM(P16:AA16) -> 1571 | BP16: =SUM(AB16:AM16) -> 5043 | BQ16: =SUM(AN16:AY16) -> 9274 | BR16: =SUM(AZ16:BK16) -> 11834
A17: Cumulative loan per branch | D17: =D16 -> 20 | E17: =E16+D17 -> 42 | F17: =F16+E17 -> 67 | G17: =G16+F17 -> 95 | H17: =H16+G17 -> 126 | I17: =I16+H17 -> 161 | J17: =J16+I17 -> 200 | K17: =K16+J17 -> 243 | L17: =L16+K17 -> 291 | ... BK17: =BK16+BJ17 -> 28190 | BN17: =BN16 -> 468 | BO17: =BN17+BO16 -> 2039 | BP17: =BO17+BP16 -> 7082 | BQ17: =BP17+BQ16 -> 16356 | BR17: =BQ17+BR16 -> 28190
A18: Total loans | B18: # | D18: ='Working for Branches'!G65 -> 40 | E18: ='Working for Branches'!H65 -> 84 | F18: ='Working for Branches'!I65 -> 134 | G18: ='Working for Branches'!J65 -> 190 | H18: ='Working for Branches'!K65 -> 252 | I18: ='Working for Branches'!L65 -> 322 | J18: ='Working for Branches'!M65 -> 400 | K18: ='Working for Branches'!N65 -> 486 | ... BK18: ='Working for Branches'!BN65 -> 74775 | BN18: =SUM(D18:O18) -> 4920 | BO18: =SUM(P18:AA18) -> 30540 | BP18: =SUM(AB18:AM18) -> 117230 | BQ18: =SUM(AN18:AY18) -> 340087 | BR18: =SUM(AZ18:BK18) -> 697722
A19: Cumulative | D19: =D18 -> 40 | E19: =D19+E18 -> 124 | F19: =E19+F18 -> 258 | G19: =F19+G18 -> 448 | H19: =G19+H18 -> 700 | I19: =H19+I18 -> 1022 | J19: =I19+J18 -> 1422 | K19: =J19+K18 -> 1908 | L19: =K19+L18 -> 2490 | ... BK19: =BJ19+BK18 -> 1190499 | BN19: =O19 -> 4920 | BO19: =AA19 -> 35460 | BP19: =AM19 -> 152690 | BQ19: =AY19 -> 492777 | BR19: =BK19 -> 1190499
A20: Cumulative | V20: =V19-D19 -> 17141 | W20: =W19-E19 -> 19906 | X20: =X19-F19 -> 22985 | Y20: =Y19-G19 -> 26409 | Z20: =Z19-H19 -> 30214 | AA20: =AA19-I19 -> 34438 | AB20: =AB19-J19 -> 39124 | AC20: =AC19-K19 -> 44320 | ... BK20: =BK19-AS19 -> 904283 | BN20: =BN19 -> 4920 | BO20: =AA20 -> 34438 | BP20: =AM20 -> 138029 | BQ20: =AY20 -> 416556 | BR20: =BK20 -> 904283
A21: Average loan size | B21: INR | D21: 40000 | E21: =D21 -> 40000 | F21: =E21 -> 40000 | G21: =F21 -> 40000 | H21: =G21 -> 40000 | I21: =H21 -> 40000 | J21: =I21 -> 40000 | K21: =J21 -> 40000 | L21: =K21 -> 40000 | ... BK21: =BJ21 -> 40000
A23: Users % share
A24: Interest Rate | B24: % | D24: 1 | E24: =D24 -> 1 | F24: =E24 -> 1 | G24: =F24 -> 1 | H24: =G24 -> 1 | I24: =H24 -> 1 | J24: =I24 -> 1 | K24: =J24 -> 1 | L24: =K24 -> 1 | ... BK24: =BJ24 -> 1 | BN24: 1 | BO24: 1 | BP24: 1 | BQ24: 1 | BR24: 1
A25: Processing Fee | B25: % | D25: 1 | E25: =D25 -> 1 | F25: =E25 -> 1 | G25: =F25 -> 1 | H25: =G25 -> 1 | I25: =H25 -> 1 | J25: =I25 -> 1 | K25: =J25 -> 1 | L25: =K25 -> 1 | ... AA25: =Z25 -> 1 | AB25: =AA25*(1+$C26) -> 1 | AC25: =AB25 -> 1 | AD25: =AC25 -> 1 | AE25: =AD25 -> 1 | AF25: =AE25 -> 1 | AG25: =AF25 -> 1 | AH25: =AG25 -> 1 | AI25: =AH25 -> 1 | AJ25: =AI25 -> 1 | ... AM25: =AL25 -> 1 | AN25: =AM25*(1+$C26) -> 1 | AO25: =AN25 -> 1 | AP25: =AO25 -> 1 | AQ25: =AP25 -> 1 | AR25: =AQ25 -> 1 | AS25: =AR25 -> 1 | AT25: =AS25 -> 1 | AU25: =AT25 -> 1 | AV25: =AU25 -> 1 | ... AY25: =AX25 -> 1 | AZ25: =AY25*(1+$C26) -> 1 | BA25: =AZ25 -> 1 | BB25: =BA25 -> 1 | BC25: =BB25 -> 1 | BD25: =BC25 -> 1 | BE25: =BD25 -> 1 | BF25: =BE25 -> 1 | BG25: =BF25 -> 1 | BH25: =BG25 -> 1 | ... BK25: =BJ25 -> 1 | BN25: 1 | BO25: 1 | BP25: 1 | BQ25: 1 | BR25: 1
A26: Insurance processing fee | B26: % | D26: 1 | E26: =D26 -> 1 | F26: =E26 -> 1 | G26: =F26 -> 1 | H26: =G26 -> 1 | I26: =H26 -> 1 | J26: =I26 -> 1 | K26: =J26 -> 1 | L26: =K26 -> 1 | ... AA26: =Z26 -> 1 | AB26: =AA26*(1+$C27) -> 1 | AC26: =AB26 -> 1 | AD26: =AC26 -> 1 | AE26: =AD26 -> 1 | AF26: =AE26 -> 1 | AG26: =AF26 -> 1 | AH26: =AG26 -> 1 | AI26: =AH26 -> 1 | AJ26: =AI26 -> 1 | ... AM26: =AL26 -> 1 | AN26: =AM26*(1+$C27) -> 1 | AO26: =AN26 -> 1 | AP26: =AO26 -> 1 | AQ26: =AP26 -> 1 | AR26: =AQ26 -> 1 | AS26: =AR26 -> 1 | AT26: =AS26 -> 1 | AU26: =AT26 -> 1 | AV26: =AU26 -> 1 | ... AY26: =AX26 -> 1 | AZ26: =AY26*(1+$C27) -> 1 | BA26: =AZ26 -> 1 | BB26: =BA26 -> 1 | BC26: =BB26 -> 1 | BD26: =BC26 -> 1 | BE26: =BD26 -> 1 | BF26: =BE26 -> 1 | BG26: =BF26 -> 1 | BH26: =BG26 -> 1 | ... BK26: =BJ26 -> 1 | BN26: 0.4 | BO26: 0.4 | BP26: 0.4 | BQ26: 0.4 | BR26: 0.4
A28: Rate %
A29: Interest Rate | B29: % | D29: =BN29 -> 0.02 | E29: =D29 -> 0.02 | F29: =E29 -> 0.02 | G29: =F29 -> 0.02 | H29: =G29 -> 0.02 | I29: =H29 -> 0.02 | J29: =I29 -> 0.02 | K29: =J29 -> 0.02 | L29: =K29 -> 0.02 | ... O29: =N29 -> 0.02 | P29: =BO29 -> 0.02 | Q29: =P29 -> 0.02 | R29: =Q29 -> 0.02 | S29: =R29 -> 0.02 | T29: =S29 -> 0.02 | U29: =T29 -> 0.02 | V29: =U29 -> 0.02 | W29: =V29 -> 0.02 | X29: =W29 -> 0.02 | ... AM29: =AL29 -> 0.02 | AN29: =BQ29 -> 0.02 | AO29: =AN29 -> 0.02 | AP29: =AO29 -> 0.02 | AQ29: =AP29 -> 0.02 | AR29: =AQ29 -> 0.02 | AS29: =AR29 -> 0.02 | AT29: =AS29 -> 0.02 | AU29: =AT29 -> 0.02 | AV29: =AU29 -> 0.02 | ... BK29: =BJ29 -> 0.02 | BN29: =24%/12 -> 0.02 | BO29: =24%/12 -> 0.02 | BP29: =24%/12 -> 0.02 | BQ29: =24%/12 -> 0.02 | BR29: =24%/12 -> 0.02
A30: Processing Fee | B30: % | D30: =BN30 -> 0.02 | E30: =D30 -> 0.02 | F30: =E30 -> 0.02 | G30: =F30 -> 0.02 | H30: =G30 -> 0.02 | I30: =H30 -> 0.02 | J30: =I30 -> 0.02 | K30: =J30 -> 0.02 | L30: =K30 -> 0.02 | ... O30: =N30 -> 0.02 | P30: =BO30 -> 0.02 | Q30: =P30 -> 0.02 | R30: =Q30 -> 0.02 | S30: =R30 -> 0.02 | T30: =S30 -> 0.02 | U30: =T30 -> 0.02 | V30: =U30 -> 0.02 | W30: =V30 -> 0.02 | X30: =W30 -> 0.02 | ... AM30: =AL30 -> 0.02 | AN30: =BQ30 -> 0.02 | AO30: =AN30 -> 0.02 | AP30: =AO30 -> 0.02 | AQ30: =AP30 -> 0.02 | AR30: =AQ30 -> 0.02 | AS30: =AR30 -> 0.02 | AT30: =AS30 -> 0.02 | AU30: =AT30 -> 0.02 | AV30: =AU30 -> 0.02 | ... BK30: =BJ30 -> 0.02 | BN30: 0.02 | BO30: 0.02 | BP30: 0.02 | BQ30: 0.02 | BR30: 0.02
A31: Insurance processing fee | B31: % | D31: =BN31 -> 0.03 | E31: =D31 -> 0.03 | F31: =E31 -> 0.03 | G31: =F31 -> 0.03 | H31: =G31 -> 0.03 | I31: =H31 -> 0.03 | J31: =I31 -> 0.03 | K31: =J31 -> 0.03 | L31: =K31 -> 0.03 | ... O31: =N31 -> 0.03 | P31: =BO31 -> 0.03 | Q31: =P31 -> 0.03 | R31: =Q31 -> 0.03 | S31: =R31 -> 0.03 | T31: =S31 -> 0.03 | U31: =T31 -> 0.03 | V31: =U31 -> 0.03 | W31: =V31 -> 0.03 | X31: =W31 -> 0.03 | ... AM31: =AL31 -> 0.03 | AN31: =BQ31 -> 0.03 | AO31: =AN31 -> 0.03 | AP31: =AO31 -> 0.03 | AQ31: =AP31 -> 0.03 | AR31: =AQ31 -> 0.03 | AS31: =AR31 -> 0.03 | AT31: =AS31 -> 0.03 | AU31: =AT31 -> 0.03 | AV31: =AU31 -> 0.03 | ... BK31: =BJ31 -> 0.03 | BN31: 0.03 | BO31: 0.03 | BP31: 0.03 | BQ31: 0.03 | BR31: 0.01
A36: Cost
A38: Direct expense
A40: Annual escalation | B40: % | C40: 0.1
A42: Indirect expense
A43: Rent | B43: INR | D43: 10000 | E43: =D43 -> 10000 | F43: =E43 -> 10000 | G43: =F43 -> 10000 | H43: =G43 -> 10000 | I43: =H43 -> 10000 | J43: =I43 -> 10000 | K43: =J43 -> 10000 | L43: =K43 -> 10000 | ... O43: =N43 -> 10000 | P43: =O43*(1+$C44) -> 11000 | Q43: =P43 -> 11000 | R43: =Q43 -> 11000 | S43: =R43 -> 11000 | T43: =S43 -> 11000 | U43: =T43 -> 11000 | V43: =U43 -> 11000 | W43: =V43 -> 11000 | X43: =W43 -> 11000 | ... AA43: =Z43 -> 11000 | AB43: =AA43*(1+$C44) -> 12100 | AC43: =AB43 -> 12100 | AD43: =AC43 -> 12100 | AE43: =AD43 -> 12100 | AF43: =AE43 -> 12100 | AG43: =AF43 -> 12100 | AH43: =AG43 -> 12100 | AI43: =AH43 -> 12100 | AJ43: =AI43 -> 12100 | ... AM43: =AL43 -> 12100 | AN43: =AM43*(1+$C44) -> 13310 | AO43: =AN43 -> 13310 | AP43: =AO43 -> 13310 | AQ43: =AP43 -> 13310 | AR43: =AQ43 -> 13310 | AS43: =AR43 -> 13310 | AT43: =AS43 -> 13310 | AU43: =AT43 -> 13310 | AV43: =AU43 -> 13310 | ... AY43: =AX43 -> 13310 | AZ43: =AY43*(1+$C44) -> 14641 | BA43: =AZ43 -> 14641 | BB43: =BA43 -> 14641 | BC43: =BB43 -> 14641 | BD43: =BC43 -> 14641 | BE43: =BD43 -> 14641 | BF43: =BE43 -> 14641 | BG43: =BF43 -> 14641 | BH43: =BG43 -> 14641 | ... BK43: =BJ43 -> 14641
A44: Annual escalation - Rent | B44: % | C44: 0.1
A45: Electricity Bill | B45: INR | D45: 1000 | E45: =D45 -> 1000 | F45: =E45 -> 1000 | G45: =F45 -> 1000 | H45: =G45 -> 1000 | I45: =H45 -> 1000 | J45: =I45 -> 1000 | K45: =J45 -> 1000 | L45: =K45 -> 1000 | ... O45: =N45 -> 1000 | P45: =O45*(1+$C46) -> 1100 | Q45: =P45 -> 1100 | R45: =Q45 -> 1100 | S45: =R45 -> 1100 | T45: =S45 -> 1100 | U45: =T45 -> 1100 | V45: =U45 -> 1100 | W45: =V45 -> 1100 | X45: =W45 -> 1100 | ... AA45: =Z45 -> 1100 | AB45: =AA45*(1+$C46) -> 1210 | AC45: =AB45 -> 1210 | AD45: =AC45 -> 1210 | AE45: =AD45 -> 1210 | AF45: =AE45 -> 1210 | AG45: =AF45 -> 1210 | AH45: =AG45 -> 1210 | AI45: =AH45 -> 1210 | AJ45: =AI45 -> 1210 | ... AM45: =AL45 -> 1210 | AN45: =AM45*(1+$C46) -> 1331 | AO45: =AN45 -> 1331 | AP45: =AO45 -> 1331 | AQ45: =AP45 -> 1331 | AR45: =AQ45 -> 1331 | AS45: =AR45 -> 1331 | AT45: =AS45 -> 1331 | AU45: =AT45 -> 1331 | AV45: =AU45 -> 1331 | ... AY45: =AX45 -> 1331 | AZ45: =AY45*(1+$C46) -> 1464.1 | BA45: =AZ45 -> 1464.1 | BB45: =BA45 -> 1464.1 | BC45: =BB45 -> 1464.1 | BD45: =BC45 -> 1464.1 | BE45: =BD45 -> 1464.1 | BF45: =BE45 -> 1464.1 | BG45: =BF45 -> 1464.1 | BH45: =BG45 -> 1464.1 | ... BK45: =BJ45 -> 1464.1
A46: Annual escalation - Travel & fuel | B46: % | C46: 0.1
A47: Internet Bill | B47: INR | D47: 1000 | E47: =D47 -> 1000 | F47: =E47 -> 1000 | G47: =F47 -> 1000 | H47: =G47 -> 1000 | I47: =H47 -> 1000 | J47: =I47 -> 1000 | K47: =J47 -> 1000 | L47: =K47 -> 1000 | ... O47: =N47 -> 1000 | P47: =O47*(1+$C48) -> 1100 | Q47: =P47 -> 1100 | R47: =Q47 -> 1100 | S47: =R47 -> 1100 | T47: =S47 -> 1100 | U47: =T47 -> 1100 | V47: =U47 -> 1100 | W47: =V47 -> 1100 | X47: =W47 -> 1100 | ... AA47: =Z47 -> 1100 | AB47: =AA47*(1+$C48) -> 1210 | AC47: =AB47 -> 1210 | AD47: =AC47 -> 1210 | AE47: =AD47 -> 1210 | AF47: =AE47 -> 1210 | AG47: =AF47 -> 1210 | AH47: =AG47 -> 1210 | AI47: =AH47 -> 1210 | AJ47: =AI47 -> 1210 | ... AM47: =AL47 -> 1210 | AN47: =AM47*(1+$C48) -> 1331 | AO47: =AN47 -> 1331 | AP47: =AO47 -> 1331 | AQ47: =AP47 -> 1331 | AR47: =AQ47 -> 1331 | AS47: =AR47 -> 1331 | AT47: =AS47 -> 1331 | AU47: =AT47 -> 1331 | AV47: =AU47 -> 1331 | ... AY47: =AX47 -> 1331 | AZ47: =AY47*(1+$C48) -> 1464.1 | BA47: =AZ47 -> 1464.1 | BB47: =BA47 -> 1464.1 | BC47: =BB47 -> 1464.1 | BD47: =BC47 -> 1464.1 | BE47: =BD47 -> 1464.1 | BF47: =BE47 -> 1464.1 | BG47: =BF47 -> 1464.1 | BH47: =BG47 -> 1464.1 | ... BK47: =BJ47 -> 1464.1
A48: Annual escalation - Software | B48: % | C48: 0.1
A49: Stationery | B49: INR | D49: 500 | E49: =D49 -> 500 | F49: =E49 -> 500 | G49: =F49 -> 500 | H49: =G49 -> 500 | I49: =H49 -> 500 | J49: =I49 -> 500 | K49: =J49 -> 500 | L49: =K49 -> 500 | ... O49: =N49 -> 500 | P49: =O49*(1+$C50) -> 550 | Q49: =P49 -> 550 | R49: =Q49 -> 550 | S49: =R49 -> 550 | T49: =S49 -> 550 | U49: =T49 -> 550 | V49: =U49 -> 550 | W49: =V49 -> 550 | X49: =W49 -> 550 | ... AA49: =Z49 -> 550 | AB49: =AA49*(1+$C50) -> 605 | AC49: =AB49 -> 605 | AD49: =AC49 -> 605 | AE49: =AD49 -> 605 | AF49: =AE49 -> 605 | AG49: =AF49 -> 605 | AH49: =AG49 -> 605 | AI49: =AH49 -> 605 | AJ49: =AI49 -> 605 | ... AM49: =AL49 -> 605 | AN49: =AM49*(1+$C50) -> 665.5 | AO49: =AN49 -> 665.5 | AP49: =AO49 -> 665.5 | AQ49: =AP49 -> 665.5 | AR49: =AQ49 -> 665.5 | AS49: =AR49 -> 665.5 | AT49: =AS49 -> 665.5 | AU49: =AT49 -> 665.5 | AV49: =AU49 -> 665.5 | ... AY49: =AX49 -> 665.5 | AZ49: =AY49*(1+$C50) -> 732.05 | BA49: =AZ49 -> 732.05 | BB49: =BA49 -> 732.05 | BC49: =BB49 -> 732.05 | BD49: =BC49 -> 732.05 | BE49: =BD49 -> 732.05 | BF49: =BE49 -> 732.05 | BG49: =BF49 -> 732.05 | BH49: =BG49 -> 732.05 | ... BK49: =BJ49 -> 732.05
A50: Annual escalation - Stationery | B50: % | C50: 0.1
A51: Mumbai Office | B51: INR | D51: 50000 | E51: =D51 -> 50000 | F51: =E51 -> 50000 | G51: =F51 -> 50000 | H51: =G51 -> 50000 | I51: =H51 -> 50000 | J51: =I51 -> 50000 | K51: =J51 -> 50000 | L51: =K51 -> 50000 | ... O51: =N51 -> 50000 | P51: =O51*(1+$C52) -> 55000 | Q51: =P51 -> 55000 | R51: =Q51 -> 55000 | S51: =R51 -> 55000 | T51: =S51 -> 55000 | U51: =T51 -> 55000 | V51: =U51 -> 55000 | W51: =V51 -> 55000 | X51: =W51 -> 55000 | ... AA51: =Z51 -> 55000 | AB51: =AA51*(1+$C52) -> 60500 | AC51: =AB51 -> 60500 | AD51: =AC51 -> 60500 | AE51: =AD51 -> 60500 | AF51: =AE51 -> 60500 | AG51: =AF51 -> 60500 | AH51: =AG51 -> 60500 | AI51: =AH51 -> 60500 | AJ51: =AI51 -> 60500 | ... AM51: =AL51 -> 60500 | AN51: =AM51*(1+$C52) -> 66550 | AO51: =AN51 -> 66550 | AP51: =AO51 -> 66550 | AQ51: =AP51 -> 66550 | AR51: =AQ51 -> 66550 | AS51: =AR51 -> 66550 | AT51: =AS51 -> 66550 | AU51: =AT51 -> 66550 | AV51: =AU51 -> 66550 | ... AY51: =AX51 -> 66550 | AZ51: =AY51*(1+$C52) -> 73205 | BA51: =AZ51 -> 73205 | BB51: =BA51 -> 73205 | BC51: =BB51 -> 73205 | BD51: =BC51 -> 73205 | BE51: =BD51 -> 73205 | BF51: =BE51 -> 73205 | BG51: =BF51 -> 73205 | BH51: =BG51 -> 73205 | ... BK51: =BJ51 -> 73205
A52: Annual escalation | B52: % | C52: 0.1
A54: Softwares | B54: INR | D54: =((25000/12)*D15)+((10/12)*D17) -> 4183.3333 | E54: =((25000/12)*E15)+((10/12)*E17) -> 8368.3333 | F54: =((25000/12)*F15)+((10/12)*F17) -> 12555.833 | G54: =((25000/12)*G15)+((10/12)*G17) -> 16745.833 | H54: =((25000/12)*H15)+((10/12)*H17) -> 20938.333 | I54: =((25000/12)*I15)+((10/12)*I17) -> 25134.167 | J54: =((25000/12)*J15)+((10/12)*J17) -> 29333.333 | K54: =((25000/12)*K15)+((10/12)*K17) -> 33535.833 | ... BK54: =((25000/12)*BK15)+((10/12)*BK17) -> 423491.67
A56: Marketing and Branding | B56: % | D56: 0.15 | E56: =D56 -> 0.15 | F56: =E56 -> 0.15 | G56: =F56 -> 0.15 | H56: =G56 -> 0.15 | I56: =H56 -> 0.15 | J56: =I56 -> 0.15 | K56: =J56 -> 0.15 | L56: =K56 -> 0.15 | ... BK56: =BJ56 -> 0.15
A58: Employee Benefit | B58: % | D58: 0.15 | E58: =D58 -> 0.15 | F58: =E58 -> 0.15 | G58: =F58 -> 0.15 | H58: =G58 -> 0.15 | I58: =H58 -> 0.15 | J58: =I58 -> 0.15 | K58: =J58 -> 0.15 | L58: =K58 -> 0.15 | ... BK58: =BJ58 -> 0.15
...

Sheet Working for Branches
A1: All figures in INR wherever applicable
A2: Working for branches | G2: 1 | H2: =G2+1 -> 2 | I2: =H2+1 -> 3 | J2: =I2+1 -> 4 | K2: =J2+1 -> 5 | L2: =K2+1 -> 6 | M2: =L2+1 -> 7 | N2: =M2+1 -> 8 | O2: =N2+1 -> 9 | ... BN2: =BM2+1 -> 60
B3: Branches | E3: 0 | F3: Loans per month per branch | G3: =Assumptions!D16 -> 20 | H3: =Assumptions!E16 -> 22 | I3: =Assumptions!F16 -> 25 | J3: =Assumptions!G16 -> 28 | K3: =Assumptions!H16 -> 31 | L3: =Assumptions!I16 -> 35 | M3: =Assumptions!J16 -> 39 | N3: =Assumptions!K16 -> 43 | ... BN3: =Assumptions!BK16 -> 1100
D4: 0 | G4: =$D$4*G3 -> 0 | H4: =$D$4*H3 -> 0 | I4: =$D$4*I3 -> 0 | J4: =$D$4*J3 -> 0 | K4: =$D$4*K3 -> 0 | L4: =$D$4*L3 -> 0 | M4: =$D$4*M3 -> 0 | N4: =$D$4*N3 -> 0 | ... BN4: =$D$4*BN3 -> 0
B5: {=TRANSPOSE(G2:BN2)} -> 1 | D5: =SUM(D4:D4) -> 0 | E5: {=TRANSPOSE(Assumptions!D15:BK15)} -> 2 | F5: {=TRANSPOSE(Assumptions!D14:BK14)} -> 2 | G5: =$F$5*G3 -> 40 | H5: =$F$5*H3 -> 44 | I5: =$F$5*I3 -> 50 | J5: =$F$5*J3 -> 56 | K5: =$F$5*K3 -> 62 | L5: =$F$5*L3 -> 70 | M5: =$F$5*M3 -> 78 | N5: =$F$5*N3 -> 86 | ... BN5: =$F$5*BN3 -> 2200
B6: 2 | E6: 4 | F6: 2 | H6: =$F$6*G3 -> 40 | I6: =$F$6*H3 -> 44 | J6: =$F$6*I3 -> 50 | K6: =$F$6*J3 -> 56 | L6: =$F$6*K3 -> 62 | M6: =$F$6*L3 -> 70 | N6: =$F$6*M3 -> 78 | O6: =$F$6*N3 -> 86 | ... BN6: =$F$6*BM3 -> 2156
B7: 3 | E7: 6 | F7: 2 | I7: =$F$7*G3 -> 40 | J7: =$F$7*H3 -> 44 | K7: =$F$7*I3 -> 50 | L7: =$F$7*J3 -> 56 | M7: =$F$7*K3 -> 62 | N7: =$F$7*L3 -> 70 | O7: =$F$7*M3 -> 78 | P7: =$F$7*N3 -> 86 | ... BN7: =$F$7*BL3 -> 2112
B8: 4 | E8: 8 | F8: 2 | J8: =$F$8*G3 -> 40 | K8: =$F$8*H3 -> 44 | L8: =$F$8*I3 -> 50 | M8: =$F$8*J3 -> 56 | N8: =$F$8*K3 -> 62 | O8: =$F$8*L3 -> 70 | P8: =$F$8*M3 -> 78 | Q8: =$F$8*N3 -> 86 | ... BN8: =$F$8*BK3 -> 2070
B9: 5 | E9: 10 | F9: 2 | K9: =$F$9*G3 -> 40 | L9: =$F$9*H3 -> 44 | M9: =$F$9*I3 -> 50 | N9: =$F$9*J3 -> 56 | O9: =$F$9*K3 -> 62 | P9: =$F$9*L3 -> 70 | Q9: =$F$9*M3 -> 78 | R9: =$F$9*N3 -> 86 | ... BN9: =$F$9*BJ3 -> 2028
B10: 6 | E10: 12 | F10: 2 | L10: =$F$10*G3 -> 40 | M10: =$F$10*H3 -> 44 | N10: =$F$10*I3 -> 50 | O10: =$F$10*J3 -> 56 | P10: =$F$10*K3 -> 62 | Q10: =$F$10*L3 -> 70 | R10: =$F$10*M3 -> 78 | S10: =$F$10*N3 -> 86 | ... BN10: =$F$10*BI3 -> 1988
B11: 7 | E11: 14 | F11: 2 | M11: =$F$11*G3 -> 40 | N11: =$F$11*H3 -> 44 | O11: =$F$11*I3 -> 50 | P11: =$F$11*J3 -> 56 | Q11: =$F$11*K3 -> 62 | R11: =$F$11*L3 -> 70 | S11: =$F$11*M3 -> 78 | T11: =$F$11*N3 -> 86 | ... BN11: =$F$11*BH3 -> 1948
B12: 8 | E12: 16 | F12: 2 | N12: =$F$12*G3 -> 40 | O12: =$F$12*H3 -> 44 | P12: =$F$12*I3 -> 50 | Q12: =$F$12*J3 -> 56 | R12: =$F$12*K3 -> 62 | S12: =$F$12*L3 -> 70 | T12: =$F$12*M3 -> 78 | U12: =$F$12*N3 -> 86 | ... BN12: =$F$12*BG3 -> 1908
B13: 9 | E13: 18 | F13: 2 | O13: =$F$13*G3 -> 40 | P13: =$F$13*H3 -> 44 | Q13: =$F$13*I3 -> 50 | R13: =$F$13*J3 -> 56 | S13: =$F$13*K3 -> 62 | T13: =$F$13*L3 -> 70 | U13: =$F$13*M3 -> 78 | V13: =$F$13*N3 -> 86 | ... BN13: =$F$13*BF3 -> 1870
B14: 10 | E14: 20 | F14: 2 | P14: =$F$14*G3 -> 40 | Q14: =$F$14*H3 -> 44 | R14: =$F$14*I3 -> 50 | S14: =$F$14*J3 -> 56 | T14: =$F$14*K3 -> 62 | U14: =$F$14*L3 -> 70 | V14: =$F$14*M3 -> 78 | W14: =$F$14*N3 -> 86 | ... BN14: =$F$14*BE3 -> 1832
B15: 11 | E15: 22 | F15: 2 | Q15: =$F$15*G3 -> 40 | R15: =$F$15*H3 -> 44 | S15: =$F$15*I3 -> 50 | T15: =$F$15*J3 -> 56 | U15: =$F$15*K3 -> 62 | V15: =$F$15*L3 -> 70 | W15: =$F$15*M3 -> 78 | X15: =$F$15*N3 -> 86 | ... BN15: =$F$15*BD3 -> 1796
B16: 12 | E16: 24 | F16: 2 | R16: =$F$16*G3 -> 40 | S16: =$F$16*H3 -> 44 | T16: =$F$16*I3 -> 50 | U16: =$F$16*J3 -> 56 | V16: =$F$16*K3 -> 62 | W16: =$F$16*L3 -> 70 | X16: =$F$16*M3 -> 78 | Y16: =$F$16*N3 -> 86 | ... BN16: =$F$16*BC3 -> 1760
B17: 13 | E17: 27 | F17: 3 | S17: =$F$17*G3 -> 60 | T17: =$F$17*H3 -> 66 | U17: =$F$17*I3 -> 75 | V17: =$F$17*J3 -> 84 | W17: =$F$17*K3 -> 93 | X17: =$F$17*L3 -> 105 | Y17: =$F$17*M3 -> 117 | Z17: =$F$17*N3 -> 129 | ... BN17: =$F$17*BB3 -> 2586
B18: 14 | E18: 30 | F18: 3 | T18: =$F$18*G3 -> 60 | U18: =$F$18*H3 -> 66 | V18: =$F$18*I3 -> 75 | W18: =$F$18*J3 -> 84 | X18: =$F$18*K3 -> 93 | Y18: =$F$18*L3 -> 105 | Z18: =$F$18*M3 -> 117 | AA18: =$F$18*N3 -> 129 | ... BN18: =$F$18*BA3 -> 2535
B19: 15 | E19: 33 | F19: 3 | U19: =$F$19*G3 -> 60 | V19: =$F$19*H3 -> 66 | W19: =$F$19*I3 -> 75 | X19: =$F$19*J3 -> 84 | Y19: =$F$19*K3 -> 93 | Z19: =$F$19*L3 -> 105 | AA19: =$F$19*M3 -> 117 | AB19: =$F$19*N3 -> 129 | ... BN19: =$F$19*AZ3 -> 2484
B20: 16 | E20: 36 | F20: 3 | V20: =$F$20*G3 -> 60 | W20: =$F$20*H3 -> 66 | X20: =$F$20*I3 -> 75 | Y20: =$F$20*J3 -> 84 | Z20: =$F$20*K3 -> 93 | AA20: =$F$20*L3 -> 105 | AB20: =$F$20*M3 -> 117 | AC20: =$F$20*N3 -> 129 | ... BN20: =$F$20*AY3 -> 2433
B21: 17 | E21: 39 | F21: 3 | W21: =$F$21*G3 -> 60 | X21: =$F$21*H3 -> 66 | Y21: =$F$21*I3 -> 75 | Z21: =$F$21*J3 -> 84 | AA21: =$F$21*K3 -> 93 | AB21: =$F$21*L3 -> 105 | AC21: =$F$21*M3 -> 117 | AD21: =$F$21*N3 -> 129 | ... BN21: =$F$21*AX3 -> 2385
B22: 18 | E22: 42 | F22: 3 | X22: =$F$22*G3 -> 60 | Y22: =$F$22*H3 -> 66 | Z22: =$F$22*I3 -> 75 | AA22: =$F$22*J3 -> 84 | AB22: =$F$22*K3 -> 93 | AC22: =$F$22*L3 -> 105 | AD22: =$F$22*M3 -> 117 | AE22: =$F$22*N3 -> 129 | ... BN22: =$F$22*AW3 -> 2337
B23: 19 | E23: 45 | F23: 3 | Y23: =$F$23*G3 -> 60 | Z23: =$F$23*H3 -> 66 | AA23: =$F$23*I3 -> 75 | AB23: =$F$23*J3 -> 84 | AC23: =$F$23*K3 -> 93 | AD23: =$F$23*L3 -> 105 | AE23: =$F$23*M3 -> 117 | AF23: =$F$23*N3 -> 129 | ... BN23: =$F$23*AV3 -> 2289
B24: 20 | E24: 48 | F24: 3 | Z24: =$F$24*G3 -> 60 | AA24: =$F$24*H3 -> 66 | AB24: =$F$24*I3 -> 75 | AC24: =$F$24*J3 -> 84 | AD24: =$F$24*K3 -> 93 | AE24: =$F$24*L3 -> 105 | AF24: =$F$24*M3 -> 117 | AG24: =$F$24*N3 -> 129 | ... BN24: =$F$24*AU3 -> 2244
B25: 21 | E25: 51 | F25: 3 | AA25: =$F$25*G3 -> 60 | AB25: =$F$25*H3 -> 66 | AC25: =$F$25*I3 -> 75 | AD25: =$F$25*J3 -> 84 | AE25: =$F$25*K3 -> 93 | AF25: =$F$25*L3 -> 105 | AG25: =$F$25*M3 -> 117 | AH25: =$F$25*N3 -> 129 | ... BN25: =$F$25*AT3 -> 2199
B26: 22 | E26: 54 | F26: 3 | AB26: =$F$26*G3 -> 60 | AC26: =$F$26*H3 -> 66 | AD26: =$F$26*I3 -> 75 | AE26: =$F$26*J3 -> 84 | AF26: =$F$26*K3 -> 93 | AG26: =$F$26*L3 -> 105 | AH26: =$F$26*M3 -> 117 | AI26: =$F$26*N3 -> 129 | ... BN26: =$F$26*AS3 -> 2154
B27: 23 | E27: 57 | F27: 3 | AC27: =$F$27*G3 -> 60 | AD27: =$F$27*H3 -> 66 | AE27: =$F$27*I3 -> 75 | AF27: =$F$27*J3 -> 84 | AG27: =$F$27*K3 -> 93 | AH27: =$F$27*L3 -> 105 | AI27: =$F$27*M3 -> 117 | AJ27: =$F$27*N3 -> 129 | ... BN27: =$F$27*AR3 -> 2109
B28: 24 | E28: 60 | F28: 3 | AD28: =$F$28*G3 -> 60 | AE28: =$F$28*H3 -> 66 | AF28: =$F$28*I3 -> 75 | AG28: =$F$28*J3 -> 84 | AH28: =$F$28*K3 -> 93 | AI28: =$F$28*L3 -> 105 | AJ28: =$F$28*M3 -> 117 | AK28: =$F$28*N3 -> 129 | ... BN28: =$F$28*AQ3 -> 2067
B29: 25 | E29: 63 | F29: 3 | AE29: =$F$29*G3 -> 60 | AF29: =$F$29*H3 -> 66 | AG29: =$F$29*I3 -> 75 | AH29: =$F$29*J3 -> 84 | AI29: =$F$29*K3 -> 93 | AJ29: =$F$29*L3 -> 105 | AK29: =$F$29*M3 -> 117 | AL29: =$F$29*N3 -> 129 | ... BN29: =$F$29*AP3 -> 2025
B30: 26 | E30: 66 | F30: 3 | AF30: =$F$30*G3 -> 60 | AG30: =$F$30*H3 -> 66 | AH30: =$F$30*I3 -> 75 | AI30: =$F$30*J3 -> 84 | AJ30: =$F$30*K3 -> 93 | AK30: =$F$30*L3 -> 105 | AL30: =$F$30*M3 -> 117 | AM30: =$F$30*N3 -> 129 | ... BN30: =$F$30*AO3 -> 1839
B31: 27 | E31: 69 | F31: 3 | AG31: =$F$31*G3 -> 60 | AH31: =$F$31*H3 -> 66 | AI31: =$F$31*I3 -> 75 | AJ31: =$F$31*J3 -> 84 | AK31: =$F$31*K3 -> 93 | AL31: =$F$31*L3 -> 105 | AM31: =$F$31*M3 -> 117 | AN31: =$F$31*N3 -> 129 | ... BN31: =$F$31*AN3 -> 1671
B32: 28 | E32: 72 | F32: 3 | AH32: =$F$32*G3 -> 60 | AI32: =$F$32*H3 -> 66 | AJ32: =$F$32*I3 -> 75 | AK32: =$F$32*J3 -> 84 | AL32: =$F$32*K3 -> 93 | AM32: =$F$32*L3 -> 105 | AN32: =$F$32*M3 -> 117 | AO32: =$F$32*N3 -> 129 | ... BN32: =$F$32*AM3 -> 1518
B33: 29 | E33: 75 | F33: 3 | AI33: =$F$33*G3 -> 60 | AJ33: =$F$33*H3 -> 66 | AK33: =$F$33*I3 -> 75 | AL33: =$F$33*J3 -> 84 | AM33: =$F$33*K3 -> 93 | AN33: =$F$33*L3 -> 105 | AO33: =$F$33*M3 -> 117 | AP33: =$F$33*N3 -> 129 | ... BN33: =$F$33*AL3 -> 1380
B34: 30 | E34: 78 | F34: 3 | AJ34: =$F$34*G3 -> 60 | AK34: =$F$34*H3 -> 66 | AL34: =$F$34*I3 -> 75 | AM34: =$F$34*J3 -> 84 | AN34: =$F$34*K3 -> 93 | AO34: =$F$34*L3 -> 105 | AP34: =$F$34*M3 -> 117 | AQ34: =$F$34*N3 -> 129 | ... BN34: =$F$34*AK3 -> 1254
B35: 31 | E35: 81 | F35: 3 | AK35: =$F$35*G3 -> 60 | AL35: =$F$35*H3 -> 66 | AM35: =$F$35*I3 -> 75 | AN35: =$F$35*J3 -> 84 | AO35: =$F$35*K3 -> 93 | AP35: =$F$35*L3 -> 105 | AQ35: =$F$35*M3 -> 117 | AR35: =$F$35*N3 -> 129 | ... BN35: =$F$35*AJ3 -> 1140
B36: 32 | E36: 84 | F36: 3 | AL36: =$F$36*G3 -> 60 | AM36: =$F$36*H3 -> 66 | AN36: =$F$36*I3 -> 75 | AO36: =$F$36*J3 -> 84 | AP36: =$F$36*K3 -> 93 | AQ36: =$F$36*L3 -> 105 | AR36: =$F$36*M3 -> 117 | AS36: =$F$36*N3 -> 129 | ... BN36: =$F$36*AI3 -> 1035
B37: 33 | E37: 87 | F37: 3 | AM37: =$F$37*G3 -> 60 | AN37: =$F$37*H3 -> 66 | AO37: =$F$37*I3 -> 75 | AP37: =$F$37*J3 -> 84 | AQ37: =$F$37*K3 -> 93 | AR37: =$F$37*L3 -> 105 | AS37: =$F$37*M3 -> 117 | AT37: =$F$37*N3 -> 129 | ... BN37: =$F$37*AH3 -> 939
B38: 34 | E38: 90 | F38: 3 | AN38: =$F$38*G3 -> 60 | AO38: =$F$38*H3 -> 66 | AP38: =$F$38*I3 -> 75 | AQ38: =$F$38*J3 -> 84 | AR38: =$F$38*K3 -> 93 | AS38: =$F$38*L3 -> 105 | AT38: =$F$38*M3 -> 117 | AU38: =$F$38*N3 -> 129 | ... BN38: =$F$38*AG3 -> 852
B39: 35 | E39: 93 | F39: 3 | AO39: =$F$39*G3 -> 60 | AP39: =$F$39*H3 -> 66 | AQ39: =$F$39*I3 -> 75 | AR39: =$F$39*J3 -> 84 | AS39: =$F$39*K3 -> 93 | AT39: =$F$39*L3 -> 105 | AU39: =$F$39*M3 -> 117 | AV39: =$F$39*N3 -> 129 | ... BN39: =$F$39*AF3 -> 774
B40: 36 | E40: 96 | F40: 3 | AP40: =$F$40*G3 -> 60 | AQ40: =$F$40*H3 -> 66 | AR40: =$F$40*I3 -> 75 | AS40: =$F$40*J3 -> 84 | AT40: =$F$40*K3 -> 93 | AU40: =$F$40*L3 -> 105 | AV40: =$F$40*M3 -> 117 | AW40: =$F$40*N3 -> 129 | ... BN40: =$F$40*AE3 -> 702
...

Sheet Revenue
A1: All figures in INR wherever applicable
A2: Revenue projections | D2: 1 | E2: =D2+1 -> 2 | F2: =E2+1 -> 3 | G2: =F2+1 -> 4 | H2: =G2+1 -> 5 | J2: 1 | K2: =J2+1 -> 2 | L2: =K2+1 -> 3 | M2: =L2+1 -> 4 | N2: =M2+1 -> 5 | O2: =N2+1 -> 6 | P2: =O2+1 -> 7 | Q2: =P2+1 -> 8 | R2: =Q2+1 -> 9 | ... BQ2: =BP2+1 -> 60
A4: Particulars | B4: Unit
A6: Interest rate | B6: INR | D6: =SUM(J6:U6) -> 16395200 | E6: =SUM(V6:AG6) -> 168632800 | F6: =SUM(AH6:AS6) -> 773864000 | G6: =SUM(AT6:BE6) -> 2604779200 | H6: =SUM(BF6:BQ6) -> 6383252000 | J6: =Assumptions!D19*Assumptions!D21*Assumptions!D24*Assumptions!D29 -> 32000 | K6: =Assumptions!E19*Assumptions!E21*Assumptions!E24*Assumptions!E29 -> 99200 | L6: =Assumptions!F19*Assumptions!F21*Assumptions!F24*Assumptions!F29 -> 206400 | M6: =Assumptions!G19*Assumptions!G21*Assumptions!G24*Assumptions!G29 -> 358400 | N6: =Assumptions!H19*Assumptions!H21*Assumptions!H24*Assumptions!H29 -> 560000 | O6: =Assumptions!I19*Assumptions!I21*Assumptions!I24*Assumptions!I29 -> 817600 | P6: =Assumptions!J19*Assumptions!J21*Assumptions!J24*Assumptions!J29 -> 1137600 | Q6: =Assumptions!K19*Assumptions!K21*Assumptions!K24*Assumptions!K29 -> 1526400 | ... AA6: =Assumptions!U19*Assumptions!U21*Assumptions!U24*Assumptions!U29 -> 11728800 | AB6: =Assumptions!V20*Assumptions!V21*Assumptions!V24*Assumptions!V29 -> 13712800 | AC6: =Assumptions!W20*Assumptions!W21*Assumptions!W24*Assumptions!W29 -> 15924800 | AD6: =Assumptions!X20*Assumptions!X21*Assumptions!X24*Assumptions!X29 -> 18388000 | AE6: =Assumptions!Y20*Assumptions!Y21*Assumptions!Y24*Assumptions!Y29 -> 21127200 | AF6: =Assumptions!Z20*Assumptions!Z21*Assumptions!Z24*Assumptions!Z29 -> 24171200 | AG6: =Assumptions!AA20*Assumptions!AA21*Assumptions!AA24*Assumptions!AA29 -> 27550400 | AH6: =Assumptions!AB20*Assumptions!AB21*Assumptions!AB24*Assumptions!AB29 -> 31299200 | AI6: =Assumptions!AC20*Assumptions!AC21*Assumptions!AC24*Assumptions!AC29 -> 35456000 | ... BQ6: =Assumptions!BK20*Assumptions!BK21*Assumptions!BK24*Assumptions!BK29 -> 723426400
A7: Processing fee | B7: INR | D7: =SUM(J7:U7) -> 3936000 | E7: =SUM(V7:AG7) -> 24432000 | F7: =SUM(AH7:AS7) -> 93784000 | G7: =SUM(AT7:BE7) -> 272069600 | H7: =SUM(BF7:BQ7) -> 558177600 | J7: =Assumptions!D18*Assumptions!D21*Assumptions!D25*Assumptions!D30 -> 32000 | K7: =Assumptions!E18*Assumptions!E21*Assumptions!E25*Assumptions!E30 -> 67200 | L7: =Assumptions!F18*Assumptions!F21*Assumptions!F25*Assumptions!F30 -> 107200 | M7: =Assumptions!G18*Assumptions!G21*Assumptions!G25*Assumptions!G30 -> 152000 | N7: =Assumptions!H18*Assumptions!H21*Assumptions!H25*Assumptions!H30 -> 201600 | O7: =Assumptions!I18*Assumptions!I21*Assumptions!I25*Assumptions!I30 -> 257600 | P7: =Assumptions!J18*Assumptions!J21*Assumptions!J25*Assumptions!J30 -> 320000 | Q7: =Assumptions!K18*Assumptions!K21*Assumptions!K25*Assumptions!K30 -> 388800 | ... BQ7: =Assumptions!BK18*Assumptions!BK21*Assumptions!BK25*Assumptions!BK30 -> 59820000
A8: Insurance Processing fee | B8: INR | D8: =SUM(J8:U8) -> 5904000 | E8: =SUM(V8:AG8) -> 36648000 | F8: =SUM(AH8:AS8) -> 140676000 | G8: =SUM(AT8:BE8) -> 408104400 | H8: =SUM(BF8:BQ8) -> 837266400 | J8: =Assumptions!D18*Assumptions!D21*Assumptions!D26*Assumptions!D31 -> 48000 | K8: =Assumptions!E18*Assumptions!E21*Assumptions!E26*Assumptions!E31 -> 100800 | L8: =Assumptions!F18*Assumptions!F21*Assumptions!F26*Assumptions!F31 -> 160800 | M8: =Assumptions!G18*Assumptions!G21*Assumptions!G26*Assumptions!G31 -> 228000 | N8: =Assumptions!H18*Assumptions!H21*Assumptions!H26*Assumptions!H31 -> 302400 | O8: =Assumptions!I18*Assumptions!I21*Assumptions!I26*Assumptions!I31 -> 386400 | P8: =Assumptions!J18*Assumptions!J21*Assumptions!J26*Assumptions!J31 -> 480000 | Q8: =Assumptions!K18*Assumptions!K21*Assumptions!K26*Assumptions!K31 -> 583200 | ... BQ8: =Assumptions!BK18*Assumptions!BK21*Assumptions!BK26*Assumptions!BK31 -> 89730000
A10: Revenue - total | B10: INR | D10: =SUM(D6:D9) -> 26235200 | E10: =SUM(E6:E9) -> 229712800 | F10: =SUM(F6:F9) -> 1008324000 | G10: =SUM(G6:G9) -> 3284953200 | H10: =SUM(H6:H9) -> 7778696000 | J10: =SUM(J6:J9) -> 112000 | K10: =SUM(K6:K9) -> 267200 | L10: =SUM(L6:L9) -> 474400 | M10: =SUM(M6:M9) -> 738400 | N10: =SUM(N6:N9) -> 1064000 | O10: =SUM(O6:O9) -> 1461600 | P10: =SUM(P6:P9) -> 1937600 | Q10: =SUM(Q6:Q9) -> 2498400 | ... BQ10: =SUM(BQ6:BQ9) -> 872976400

Sheet Cost
A1: All figures in INR wherever applicable
A2: Cost projections | D2: 1 | E2: =D2+1 -> 2 | F2: =E2+1 -> 3 | G2: =F2+1 -> 4 | H2: =G2+1 -> 5 | J2: =Revenue!J2 -> 1 | K2: =Revenue!K2 -> 2 | L2: =Revenue!L2 -> 3 | M2: =Revenue!M2 -> 4 | N2: =Revenue!N2 -> 5 | O2: =Revenue!O2 -> 6 | P2: =Revenue!P2 -> 7 | Q2: =Revenue!Q2 -> 8 | ... BQ2: =Revenue!BQ2 -> 60
A4: Particulars | B4: Unit
A6: Direct expense
A8: Direct expense - total | B8: INR
A10: Indirect expense
A11: =Assumptions!A43 -> Rent | B11: INR | D11: =SUM(J11:U11) -> 1560000 | E11: =SUM(V11:AG11) -> 5742000 | F11: =SUM(AH11:AS11) -> 11543400 | G11: =SUM(AT11:BE11) -> 19485840 | H11: =SUM(BF11:BQ11) -> 29867640 | J11: =Assumptions!D43*Assumptions!D$15 -> 20000 | K11: =Assumptions!E43*Assumptions!E$15 -> 40000 | L11: =Assumptions!F43*Assumptions!F$15 -> 60000 | M11: =Assumptions!G43*Assumptions!G$15 -> 80000 | N11: =Assumptions!H43*Assumptions!H$15 -> 100000 | O11: =Assumptions!I43*Assumptions!I$15 -> 120000 | P11: =Assumptions!J43*Assumptions!J$15 -> 140000 | Q11: =Assumptions!K43*Assumptions!K$15 -> 160000 | ... BQ11: =Assumptions!BK43*Assumptions!BK$15 -> 2811072
A12: =Assumptions!A45 -> Electricity Bill | D12: =SUM(J12:U12) -> 156000 | E12: =SUM(V12:AG12) -> 574200 | F12: =SUM(AH12:AS12) -> 1154340 | G12: =SUM(AT12:BE12) -> 1948584 | H12: =SUM(BF12:BQ12) -> 2986764 | J12: =Assumptions!D45*Assumptions!D15 -> 2000 | K12: =Assumptions!E45*Assumptions!E15 -> 4000 | L12: =Assumptions!F45*Assumptions!F15 -> 6000 | M12: =Assumptions!G45*Assumptions!G15 -> 8000 | N12: =Assumptions!H45*Assumptions!H15 -> 10000 | O12: =Assumptions!I45*Assumptions!I15 -> 12000 | P12: =Assumptions!J45*Assumptions!J15 -> 14000 | Q12: =Assumptions!K45*Assumptions!K15 -> 16000 | ... BQ12: =Assumptions!BK45*Assumptions!BK15 -> 281107.2
A13: =Assumptions!A47 -> Internet Bill | B13: INR | D13: =SUM(J13:U13) -> 156000 | E13: =SUM(V13:AG13) -> 574200 | F13: =SUM(AH13:AS13) -> 1154340 | G13: =SUM(AT13:BE13) -> 1948584 | H13: =SUM(BF13:BQ13) -> 2986764 | J13: =Assumptions!D47*Assumptions!D15 -> 2000 | K13: =Assumptions!E47*Assumptions!E15 -> 4000 | L13: =Assumptions!F47*Assumptions!F15 -> 6000 | M13: =Assumptions!G47*Assumptions!G15 -> 8000 | N13: =Assumptions!H47*Assumptions!H15 -> 10000 | O13: =Assumptions!I47*Assumptions!I15 -> 12000 | P13: =Assumptions!J47*Assumptions!J15 -> 14000 | Q13: =Assumptions!K47*Assumptions!K15 -> 16000 | ... BQ13: =Assumptions!BK47*Assumptions!BK15 -> 281107.2
A14: =Assumptions!A49 -> Stationery | B14: INR | D14: =SUM(J14:U14) -> 78000 | E14: =SUM(V14:AG14) -> 287100 | F14: =SUM(AH14:AS14) -> 577170 | G14: =SUM(AT14:BE14) -> 974292 | H14: =SUM(BF14:BQ14) -> 1493382 | J14: =Assumptions!D49*Assumptions!D15 -> 1000 | K14: =Assumptions!E49*Assumptions!E15 -> 2000 | L14: =Assumptions!F49*Assumptions!F15 -> 3000 | M14: =Assumptions!G49*Assumptions!G15 -> 4000 | N14: =Assumptions!H49*Assumptions!H15 -> 5000 | O14: =Assumptions!I49*Assumptions!I15 -> 6000 | P14: =Assumptions!J49*Assumptions!J15 -> 7000 | Q14: =Assumptions!K49*Assumptions!K15 -> 8000 | ... BQ14: =Assumptions!BK49*Assumptions!BK15 -> 140553.6
A15: Mumbai Office | B15: INR | D15: =SUM(J15:U15) -> 600000 | E15: =SUM(V15:AG15) -> 660000 | F15: =SUM(AH15:AS15) -> 726000 | G15: =SUM(AT15:BE15) -> 798600 | H15: =SUM(BF15:BQ15) -> 878460 | J15: =Assumptions!D51 -> 50000 | K15: =Assumptions!E51 -> 50000 | L15: =Assumptions!F51 -> 50000 | M15: =Assumptions!G51 -> 50000 | N15: =Assumptions!H51 -> 50000 | O15: =Assumptions!I51 -> 50000 | P15: =Assumptions!J51 -> 50000 | Q15: =Assumptions!K51 -> 50000 | ... BQ15: =Assumptions!BK51 -> 73205
A16: =Assumptions!A54 -> Softwares | B16: INR | D16: =SUM(J16:U16) -> 327050 | E16: =SUM(V16:AG16) -> 1099200 | F16: =SUM(AH16:AS16) -> 2030495.8 | G16: =SUM(AT16:BE16) -> 3169180 | H16: =SUM(BF16:BQ16) -> 4475277.5 | J16: =Assumptions!D54 -> 4183.3333 | K16: =Assumptions!E54 -> 8368.3333 | L16: =Assumptions!F54 -> 12555.833 | M16: =Assumptions!G54 -> 16745.833 | N16: =Assumptions!H54 -> 20938.333 | O16: =Assumptions!I54 -> 25134.167 | P16: =Assumptions!J54 -> 29333.333 | Q16: =Assumptions!K54 -> 33535.833 | ... BQ16: =Assumptions!BK54 -> 423491.67
A17: =Assumptions!A56 -> Marketing and Branding | B17: INR | D17: =SUM(J17:U17) -> 3935280 | E17: =SUM(V17:AG17) -> 34456920 | F17: =SUM(AH17:AS17) -> 151248600 | G17: =SUM(AT17:BE17) -> 492742980 | H17: =SUM(BF17:BQ17) -> 1166804400 | J17: =Assumptions!D56*Revenue!J$10 -> 16800 | K17: =Assumptions!E56*Revenue!K$10 -> 40080 | L17: =Assumptions!F56*Revenue!L$10 -> 71160 | M17: =Assumptions!G56*Revenue!M$10 -> 110760 | N17: =Assumptions!H56*Revenue!N$10 -> 159600 | O17: =Assumptions!I56*Revenue!O$10 -> 219240 | P17: =Assumptions!J56*Revenue!P$10 -> 290640 | Q17: =Assumptions!K56*Revenue!Q$10 -> 374760 | ... BQ17: =Assumptions!BK56*Revenue!BQ$10 -> 130946460
A18: =Assumptions!A58 -> Employee Benefit | B18: INR | D18: =SUM(J18:U18) -> 5478000 | E18: =SUM(V18:AG18) -> 5478000 | F18: =SUM(AH18:AS18) -> 5478000 | G18: =SUM(AT18:BE18) -> 5478000 | H18: =SUM(BF18:BQ18) -> 5478000 | J18: =Assumptions!D58*(Salary!$C$82/12) -> 456500 | K18: =Assumptions!E58*(Salary!$C$82/12) -> 456500 | L18: =Assumptions!F58*(Salary!$C$82/12) -> 456500 | M18: =Assumptions!G58*(Salary!$C$82/12) -> 456500 | N18: =Assumptions!H58*(Salary!$C$82/12) -> 456500 | O18: =Assumptions!I58*(Salary!$C$82/12) -> 456500 | P18: =Assumptions!J58*(Salary!$C$82/12) -> 456500 | Q18: =Assumptions!K58*(Salary!$C$82/12) -> 456500 | ... BQ18: =Assumptions!BK58*(Salary!$C$82/12) -> 456500
A19: =Assumptions!A60 -> Reasearch and development | D19: =SUM(J19:U19) -> 2623520 | E19: =SUM(V19:AG19) -> 22971280 | F19: =SUM(AH19:AS19) -> 100832400 | G19: =SUM(AT19:BE19) -> 328495320 | H19: =SUM(BF19:BQ19) -> 777869600 | J19: =Assumptions!D60*Revenue!J10 -> 11200 | K19: =Assumptions!E60*Revenue!K10 -> 26720 | L19: =Assumptions!F60*Revenue!L10 -> 47440 | M19: =Assumptions!G60*Revenue!M10 -> 73840 | N19: =Assumptions!H60*Revenue!N10 -> 106400 | O19: =Assumptions!I60*Revenue!O10 -> 146160 | P19: =Assumptions!J60*Revenue!P10 -> 193760 | Q19: =Assumptions!K60*Revenue!Q10 -> 249840 | ... BQ19: =Assumptions!BK60*Revenue!BQ10 -> 87297640
A20: Indirect expense - total | B20: INR | D20: =SUM(J20:U20) -> 14913850 | E20: =SUM(V20:AG20) -> 71842900 | F20: =SUM(AH20:AS20) -> 2.7474475e+08 | G20: =SUM(AT20:BE20) -> 8.5504138e+08 | H20: =SUM(BF20:BQ20) -> 1.9928403e+09 | J20: =SUM(J11:J19) -> 563683.33 | K20: =SUM(K11:K19) -> 631668.33 | L20: =SUM(L11:L19) -> 712655.83 | M20: =SUM(M11:M19) -> 807845.83 | N20: =SUM(N11:N19) -> 918438.33 | O20: =SUM(O11:O19) -> 1047034.2 | P20: =SUM(P11:P19) -> 1195233.3 | Q20: =SUM(Q11:Q19) -> 1364635.8 | ... BQ20: =SUM(BQ11:BQ19) -> 2.2271114e+08
A22: Other expense
A23: =Assumptions!A64 -> Legal charges | B23: INR | D23: =SUM(J23:U23) -> 60000 | E23: =SUM(V23:AG23) -> 66000 | F23: =SUM(AH23:AS23) -> 72600 | G23: =SUM(AT23:BE23) -> 79860 | H23: =SUM(BF23:BQ23) -> 87846 | J23: =Assumptions!D64 -> 5000 | K23: =Assumptions!E64 -> 5000 | L23: =Assumptions!F64 -> 5000 | M23: =Assumptions!G64 -> 5000 | N23: =Assumptions!H64 -> 5000 | O23: =Assumptions!I64 -> 5000 | P23: =Assumptions!J64 -> 5000 | Q23: =Assumptions!K64 -> 5000 | ... BQ23: =Assumptions!BK64 -> 7320.5
A24: =Assumptions!A66 -> Audit Consultation | B24: INR | D24: =SUM(J24:U24) -> 96000 | E24: =SUM(V24:AG24) -> 105600 | F24: =SUM(AH24:AS24) -> 116160 | G24: =SUM(AT24:BE24) -> 127776 | H24: =SUM(BF24:BQ24) -> 140553.6 | J24: =Assumptions!D66 -> 8000 | K24: =Assumptions!E66 -> 8000 | L24: =Assumptions!F66 -> 8000 | M24: =Assumptions!G66 -> 8000 | N24: =Assumptions!H66 -> 8000 | O24: =Assumptions!I66 -> 8000 | P24: =Assumptions!J66 -> 8000 | Q24: =Assumptions!K66 -> 8000 | ... BQ24: =Assumptions!BK66 -> 11712.8
A25: Other expense - total | B25: INR | D25: =SUM(J25:U25) -> 156000 | E25: =SUM(V25:AG25) -> 171600 | F25: =SUM(AH25:AS25) -> 188760 | G25: =SUM(AT25:BE25) -> 207636 | H25: =SUM(BF25:BQ25) -> 228399.6 | J25: =SUM(J23:J24) -> 13000 | K25: =SUM(K23:K24) -> 13000 | L25: =SUM(L23:L24) -> 13000 | M25: =SUM(M23:M24) -> 13000 | N25: =SUM(N23:N24) -> 13000 | O25: =SUM(O23:O24) -> 13000 | P25: =SUM(P23:P24) -> 13000 | Q25: =SUM(Q23:Q24) -> 13000 | ... BQ25: =SUM(BQ23:BQ24) -> 19033.3
A28: Total Expenses | B28: INR | D28: =SUM(J28:U28) -> 15069850 | E28: =SUM(V28:AG28) -> 72014500 | F28: =SUM(AH28:AS28) -> 2.7493351e+08 | G28: =SUM(AT28:BE28) -> 8.5524902e+08 | H28: =SUM(BF28:BQ28) -> 1.9930687e+09 | J28: =J25+J20+J8 -> 576683.33 | K28: =K25+K20+K8 -> 644668.33 | L28: =L25+L20+L8 -> 725655.83 | M28: =M25+M20+M8 -> 820845.83 | N28: =N25+N20+N8 -> 931438.33 | O28: =O25+O20+O8 -> 1060034.2 | P28: =P25+P20+P8 -> 1208233.3 | Q28: =Q25+Q20+Q8 -> 1377635.8 | ... BQ28: =BQ25+BQ20+BQ8 -> 2.2273017e+08

Sheet Salary
A1: All figures in INR wherever applicable
A2: Salary Sheet | C2: 1 | D2: =C2+1 -> 2 | E2: =D2+1 -> 3 | F2: =E2+1 -> 4 | G2: =F2+1 -> 5 | I2: Annual Escalation %
A4: Particulars | B4: Column
A6: Top management | B6: # of employees | C6: 2 | D6: 2 | E6: 2 | F6: 2 | G6: 2
B7: Average salary | C7: =500000*12 -> 6000000 | D7: =C7*(1+$I7) -> 6600000 | E7: =D7*(1+$I7) -> 7260000 | F7: =E7*(1+$I7) -> 7986000 | G7: =F7*(1+$I7) -> 8784600 | I7: 0.1 | K7: =C7/12 -> 500000
B8: Annual Salary | C8: =C7*C6 -> 12000000 | D8: =D7*D6 -> 13200000 | E8: =E7*E6 -> 14520000 | F8: =F7*F6 -> 15972000 | G8: =G7*G6 -> 17569200
A9: Management | B9: # of employees | C9: 0 | D9: 3 | E9: 4 | F9: 5 | G9: 5
B10: Average salary | C10: =150000*12 -> 1800000 | D10: =C10 -> 1800000 | E10: =D10*(1+$I10) -> 1980000 | F10: =E10*(1+$I10) -> 2178000 | G10: =F10*(1+$I10) -> 2395800 | I10: 0.1 | K10: =C10/12 -> 150000
B11: Annual Salary | C11: =C10*C9 -> 0 | D11: =D10*D9 -> 5400000 | E11: =E10*E9 -> 7920000 | F11: =F10*F9 -> 10890000 | G11: =G10*G9 -> 11979000
A12: VPs | B12: # of employees | C12: 2 | D12: 2 | E12: 5 | F12: 7 | G12: 8
B13: Average salary | C13: =12*75000 -> 900000 | D13: =C13*(1+$I13) -> 990000 | E13: =D13*(1+$I13) -> 1089000 | F13: =E13*(1+$I13) -> 1197900 | G13: =F13*(1+$I13) -> 1317690 | I13: 0.1 | K13: =C13/12 -> 75000
B14: Annual Salary | C14: =C13*C12 -> 1800000 | D14: =D13*D12 -> 1980000 | E14: =E13*E12 -> 5445000 | F14: =F13*F12 -> 8385300 | G14: =G13*G12 -> 10541520
A15: Admin | B15: # of employees | C15: 2 | D15: 3 | E15: 5 | F15: 5 | G15: 7
B16: Average salary | C16: =30000*12 -> 360000 | D16: =C16*(1+$I16) -> 396000 | E16: =D16*(1+$I16) -> 435600 | F16: =E16*(1+$I16) -> 479160 | G16: =F16*(1+$I16) -> 527076 | I16: 0.1 | K16: =C16/12 -> 30000
B17: Annual Salary | C17: =C16*C15 -> 720000 | D17: =D16*D15 -> 1188000 | E17: =E16*E15 -> 2178000 | F17: =F16*F15 -> 2395800 | G17: =G16*G15 -> 3689532
A18: Operations | B18: # of employees | C18: 1 | D18: 2 | E18: 3 | F18: 4 | G18: 5
B19: Average salary | C19: =35000*12 -> 420000 | D19: =C19*(1+$I19) -> 462000 | E19: =D19*(1+$I19) -> 508200 | F19: =E19*(1+$I19) -> 559020 | G19: =F19*(1+$I19) -> 614922 | I19: 0.1 | K19: =C19/12 -> 35000
B20: Annual Salary | C20: =C19*C18 -> 420000 | D20: =D19*D18 -> 924000 | E20: =E19*E18 -> 1524600 | F20: =F19*F18 -> 2236080 | G20: =G19*G18 -> 3074610
B21: # of employees
B22: Average salary | D22: =C22*(1+$I22) -> 0 | E22: =D22*(1+$I22) -> 0 | F22: =E22*(1+$I22) -> 0 | G22: =F22*(1+$I22) -> 0 | I22: 0.25 | K22: =C22/12 -> 0
B23: Annual Salary | C23: =C22*C21 -> 0 | D23: =D22*D21 -> 0 | E23: =E22*E21 -> 0 | F23: =F22*F21 -> 0 | G23: =G22*G21 -> 0
A24: Branch Manager | B24: # of employees | C24: =1*Assumptions!BN15 -> 24 | D24: =1*Assumptions!BO15 -> 60 | E24: =1*Assumptions!BP15 -> 96 | F24: =1*Assumptions!BQ15 -> 144 | G24: =1*Assumptions!BR15 -> 192
B25: Average salary | C25: =25000*12 -> 300000 | D25: =C25*(1+$I25) -> 330000 | E25: =D25*(1+$I25) -> 363000 | F25: =E25*(1+$I25) -> 399300 | G25: =F25*(1+$I25) -> 439230 | I25: 0.1 | K25: =C25/12 -> 25000
B26: Annual Salary | C26: =C25*C24 -> 7200000 | D26: =D25*D24 -> 19800000 | E26: =E25*E24 -> 34848000 | F26: =F25*F24 -> 57499200 | G26: =G25*G24 -> 84332160
A27: Field Staff | B27: # of employees | C27: =2*Assumptions!BN15 -> 48 | D27: =2*Assumptions!BO15 -> 120 | E27: =2*Assumptions!BP15 -> 192 | F27: =2*Assumptions!BQ15 -> 288 | G27: =2*Assumptions!BR15 -> 384
B28: Average salary | C28: =15000*12 -> 180000 | D28: =C28*(1+$I28) -> 198000 | E28: =D28*(1+$I28) -> 217800 | F28: =E28*(1+$I28) -> 239580 | G28: =F28*(1+$I28) -> 263538 | I28: 0.1 | K28: =C28/12 -> 15000
B29: Annual Salary | C29: =C28*C27 -> 8640000 | D29: =D28*D27 -> 23760000 | E29: =E28*E27 -> 41817600 | F29: =F28*F27 -> 68999040 | G29: =G28*G27 -> 1.0119859e+08
A30: Credit Manager | B30: # of employees | C30: 1 | D30: 3 | E30: 5 | F30: 7 | G30: 9
B31: Average salary | C31: =35000*12 -> 420000 | D31: =C31*(1+$I31) -> 462000 | E31: =D31*(1+$I31) -> 508200 | F31: =E31*(1+$I31) -> 559020 | G31: =F31*(1+$I31) -> 614922 | I31: 0.1 | K31: =C31/12 -> 35000
B32: Annual Salary | C32: =C31*C30 -> 420000 | D32: =D31*D30 -> 1386000 | E32: =E31*E30 -> 2541000 | F32: =F31*F30 -> 3913140 | G32: =G31*G30 -> 5534298
B33: # of employees | C33: 0 | D33: 0 | E33: 0 | F33: 0 | G33: 0
B34: Average salary | C34: 0 | D34: =C34*(1+$I34) -> 0 | E34: =D34*(1+$I34) -> 0 | F34: =E34*(1+$I34) -> 0 | G34: =F34*(1+$I34) -> 0 | I34: 0.1
B35: Annual Salary | C35: =C34*C33 -> 0 | D35: =D34*D33 -> 0 | E35: =E34*E33 -> 0 | F35: =F34*F33 -> 0 | G35: =G34*G33 -> 0
B36: # of employees | C36: 0 | D36: 0 | E36: 0 | F36: 0 | G36: 0
B37: Average salary | C37: 0 | D37: =C37*(1+$I37) -> 0 | E37: =D37*(1+$I37) -> 0 | F37: =E37*(1+$I37) -> 0 | G37: =F37*(1+$I37) -> 0 | I37: 0.1
B38: Annual Salary | C38: =C37*C36 -> 0 | D38: =D37*D36 -> 0 | E38: =E37*E36 -> 0 | F38: =F37*F36 -> 0 | G38: =G37*G36 -> 0
A39: legal team | B39: # of employees | C39: 1 | D39: 2 | E39: 2 | F39: 4 | G39: 5
B40: Average salary | C40: =25000*12 -> 300000 | D40: =C40*(1+$I40) -> 330000 | E40: =D40*(1+$I40) -> 363000 | F40: =E40*(1+$I40) -> 399300 | G40: =F40*(1+$I40) -> 439230 | I40: 0.1 | K40: =C40/12 -> 25000
B41: Annual Salary | C41: =C40*C39 -> 300000 | D41: =D40*D39 -> 660000 | E41: =E40*E39 -> 726000 | F41: =F40*F39 -> 1597200 | G41: =G40*G39 -> 2196150
A42: Marketing team | B42: # of employees | C42: 1 | D42: 2 | E42: 3 | F42: 3 | G42: 5
...

Sheet Capex
A1: All figures in INR wherever applicable
A2: Capex | C2: =Salary!C2 -> 1 | D2: =Salary!D2 -> 2 | E2: =Salary!E2 -> 3 | F2: =Salary!F2 -> 4 | G2: =Salary!G2 -> 5
A4: Assets
A6: Opening balance | C6: =SUM(C14,C20,C26,C32,C38,C44,C50) -> 0 | D6: =SUM(D14,D20,D26,D32,D38,D44,D50) -> 9206315.5 | E6: =SUM(E14,E20,E26,E32,E38,E44,E50) -> 1.1263444e+08 | F6: =SUM(F14,F20,F26,F32,F38,F44,F50) -> 1.1630127e+08 | G6: =SUM(G14,G20,G26,G32,G38,G44,G50) -> 1.210168e+08
A7: Add: Net additions during the year | C7: =SUM(C15,C21,C27,C33,C39,C45,C51) -> 10020000 | D7: =SUM(D15,D21,D27,D33,D39,D45,D51) -> 105025000 | E7: =SUM(E15,E21,E27,E33,E39,E45,E51) -> 6030000 | F7: =SUM(F15,F21,F27,F33,F39,F45,F51) -> 8040000 | G7: =SUM(G15,G21,G27,G33,G39,G45,G51) -> 8040000
A8: Less: Depreciation during the year | C8: =SUM(C16,C22,C28,C34,C40,C46,C52) -> 813684.48 | D8: =SUM(D16,D22,D28,D34,D40,D46,D52) -> 1596880.3 | E8: =SUM(E16,E22,E28,E34,E40,E46,E52) -> 2363165.6 | F8: =SUM(F16,F22,F28,F34,F40,F46,F52) -> 3324471 | G8: =SUM(G16,G22,G28,G34,G40,G46,G52) -> 4020703.9
A9: Closing balance | C9: =SUM(C17,C23,C29,C35,C41,C47,C53) -> 9206315.5 | D9: =SUM(D17,D23,D29,D35,D41,D47,D53) -> 1.1263444e+08 | E9: =SUM(E17,E23,E29,E35,E41,E47,E53) -> 1.1630127e+08 | F9: =SUM(F17,F23,F29,F35,F41,F47,F53) -> 1.210168e+08 | G9: =SUM(G17,G23,G29,G35,G41,G47,G53) -> 1.2503609e+08
A11: Working note
A13: Computer system and Printer
A14: Opening balance | D14: =C17 -> 624000 | E14: =D17 -> 1185600 | F14: =E17 -> 1706640 | G14: =F17 -> 2357316
A15: Add: Net additions during the year | C15: =48000*Assumptions!BN14 -> 960000 | D15: =48000*Assumptions!BO14 -> 1200000 | E15: =48000*Assumptions!BP14 -> 1440000 | F15: =48000*Assumptions!BQ14 -> 1920000 | G15: =48000*Assumptions!BR14 -> 1920000
A16: Less: Depreciation during the year | B16: 0.35 | C16: =SUM(C14:C15)*$B16 -> 336000 | D16: =SUM(D14:D15)*$B16 -> 638400 | E16: =SUM(E14:E15)*$B16 -> 918960 | F16: =SUM(F14:F15)*$B16 -> 1269324 | G16: =SUM(G14:G15)*$B16 -> 1497060.6
A17: Closing balance | C17: =C14+C15-C16 -> 624000 | D17: =D14+D15-D16 -> 1185600 | E17: =E14+E15-E16 -> 1706640 | F17: =F14+F15-F16 -> 2357316 | G17: =G14+G15-G16 -> 2780255.4
A19: Office infrastructure
A20: Opening balance | D20: =C23 -> 1022315.5 | E20: =D23 -> 2148835.2 | F20: =E23 -> 3364129.6 | G20: =F23 -> 4910632.6
A21: Add: Net additions during the year | C21: =60000*Assumptions!BN14 -> 1200000 | D21: =60000*Assumptions!BO14 -> 1500000 | E21: =60000*Assumptions!BP14 -> 1800000 | F21: =60000*Assumptions!BQ14 -> 2400000 | G21: =60000*Assumptions!BR14 -> 2400000
A22: Less: Depreciation during the year | B22: 0.1480704 | C22: =SUM(C20:C21)*$B22 -> 177684.48 | D22: =SUM(D20:D21)*$B22 -> 373480.28 | E22: =SUM(E20:E21)*$B22 -> 584705.63 | F22: =SUM(F20:F21)*$B22 -> 853497 | G22: =SUM(G20:G21)*$B22 -> 1082488.3
A23: Closing balance | C23: =C20+C21-C22 -> 1022315.5 | D23: =D20+D21-D22 -> 2148835.2 | E23: =E20+E21-E22 -> 3364129.6 | F23: =F20+F21-F22 -> 4910632.6 | G23: =G20+G21-G22 -> 6228144.3
A25: Furniture
A26: Opening balance | D26: =C29 -> 700000 | E26: =D29 -> 1365000 | F26: =E29 -> 2005500 | G26: =F29 -> 2803850
A27: Add: Net additions during the year | C27: =50000*Assumptions!BN14 -> 1000000 | D27: =50000*Assumptions!BO14 -> 1250000 | E27: =50000*Assumptions!BP14 -> 1500000 | F27: =50000*Assumptions!BQ14 -> 2000000 | G27: =50000*Assumptions!BR14 -> 2000000
A28: Less: Depreciation during the year | B28: 0.3 | C28: =SUM(C26:C27)*$B28 -> 300000 | D28: =SUM(D26:D27)*$B28 -> 585000 | E28: =SUM(E26:E27)*$B28 -> 859500 | F28: =SUM(F26:F27)*$B28 -> 1201650 | G28: =SUM(G26:G27)*$B28 -> 1441155
A29: Closing balance | C29: =C26+C27-C28 -> 700000 | D29: =D26+D27-D28 -> 1365000 | E29: =E26+E27-E28 -> 2005500 | F29: =F26+F27-F28 -> 2803850 | G29: =G26+G27-G28 -> 3362695
A31: Security Deposite
A32: Opening balance | D32: =C35 -> 860000 | E32: =D35 -> 1935000 | F32: =E35 -> 3225000 | G32: =F35 -> 4945000
A33: Add: Net additions during the year | C33: =43000*Assumptions!BN14 -> 860000 | D33: =43000*Assumptions!BO14 -> 1075000 | E33: =43000*Assumptions!BP14 -> 1290000 | F33: =43000*Assumptions!BQ14 -> 1720000 | G33: =43000*Assumptions!BR14 -> 1720000
A34: Less: Depreciation during the year | B34: 0 | C34: =SUM(C32:C33)*$B34 -> 0 | D34: =SUM(D32:D33)*$B34 -> 0 | E34: =SUM(E32:E33)*$B34 -> 0 | F34: =SUM(F32:F33)*$B34 -> 0 | G34: =SUM(G32:G33)*$B34 -> 0
A35: Closing balance | C35: =C32+C33-C34 -> 860000 | D35: =D32+D33-D34 -> 1935000 | E35: =E32+E33-E34 -> 3225000 | F35: =F32+F33-F34 -> 4945000 | G35: =G32+G33-G34 -> 6665000
A37: NBFC License
A38: Opening balance | D38: =C41 -> 0 | E38: =D41 -> 50000000 | F38: =E41 -> 50000000 | G38: =F41 -> 50000000
A39: Add: Net additions during the year | D39: 50000000
A40: Less: Depreciation during the year | B40: 0 | C40: =SUM(C38:C39)*$B40 -> 0 | D40: =SUM(D38:D39)*$B40 -> 0 | E40: =SUM(E38:E39)*$B40 -> 0 | F40: =SUM(F38:F39)*$B40 -> 0 | G40: =SUM(G38:G39)*$B40 -> 0
A41: Closing balance | C41: =C38+C39-C40 -> 0 | D41: =D38+D39-D40 -> 50000000 | E41: =E38+E39-E40 -> 50000000 | F41: =F38+F39-F40 -> 50000000 | G41: =G38+G39-G40 -> 50000000
A43: Authorities
A44: Opening balance | D44: =C47 -> 0 | E44: =D47 -> 50000000 | F44: =E47 -> 50000000 | G44: =F47 -> 50000000
A45: Add: Net additions during the year | D45: 50000000
A46: Less: Depreciation during the year | B46: 0 | C46: =SUM(C44:C45)*$B46 -> 0 | D46: =SUM(D44:D45)*$B46 -> 0 | E46: =SUM(E44:E45)*$B46 -> 0 | F46: =SUM(F44:F45)*$B46 -> 0 | G46: =SUM(G44:G45)*$B46 -> 0
A47: Closing balance | C47: =C44+C45-C46 -> 0 | D47: =D44+D45-D46 -> 50000000 | E47: =E44+E45-E46 -> 50000000 | F47: =F44+F45-F46 -> 50000000 | G47: =G44+G45-G46 -> 50000000
A49: Softwares
A50: Opening balance | D50: =C53 -> 6000000 | E50: =D53 -> 6000000 | F50: =E53 -> 6000000 | G50: =F53 -> 6000000
...

Sheet Income Statement
A1: All figures in INR wherever applicable
A2: Income Statement | C2: 1 | D2: =C2+1 -> 2 | E2: =D2+1 -> 3 | F2: =E2+1 -> 4 | G2: =F2+1 -> 5
A4: Net Revenue | C4: =Revenue!D10 -> 26235200 | D4: =Revenue!E10 -> 229712800 | E4: =Revenue!F10 -> 1008324000 | F4: =Revenue!G10 -> 3284953200 | G4: =Revenue!H10 -> 7778696000
A5: Cost of Sales | C5: =Cost!D8 -> 0 | D5: =Cost!E8 -> 0 | E5: =Cost!F8 -> 0 | F5: =Cost!G8 -> 0 | G5: =Cost!H8 -> 0
A7: Gross Profit | C7: =C4-C5 -> 26235200 | D7: =D4-D5 -> 229712800 | E7: =E4-E5 -> 1008324000 | F7: =F4-F5 -> 3284953200 | G7: =G4-G5 -> 7778696000
A8: Gross Profit % to Sales | C8: =C7/C$4 -> 1 | D8: =D7/D$4 -> 1 | E8: =E7/E$4 -> 1 | F8: =F7/F$4 -> 1 | G8: =G7/G$4 -> 1
A9: Selling, General & Admin Expense
A10: Indirect costs | C10: =Cost!D20 -> 14913850 | D10: =Cost!E20 -> 71842900 | E10: =Cost!F20 -> 2.7474475e+08 | F10: =Cost!G20 -> 8.5504138e+08 | G10: =Cost!H20 -> 1.9928403e+09
A11: Employee cost | C11: =Salary!C82 -> 36520000 | D11: =Salary!D82 -> 95206000 | E11: =Salary!E82 -> 1.435148e+08 | F11: =Salary!F82 -> 2.0756098e+08 | G11: =Salary!G82 -> 2.8260591e+08
A12: Other expenses | C12: =Cost!D25 -> 156000 | D12: =Cost!E25 -> 171600 | E12: =Cost!F25 -> 188760 | F12: =Cost!G25 -> 207636 | G12: =Cost!H25 -> 228399.6
A13: Selling, General & Admin Expense - Sub-total | C13: =SUM(C10:C12) -> 51589850 | D13: =SUM(D10:D12) -> 167220500 | E13: =SUM(E10:E12) -> 4.1844831e+08 | F13: =SUM(F10:F12) -> 1.06281e+09 | G13: =SUM(G10:G12) -> 2.2756746e+09
A15: EBITDA | C15: =C7-C13 -> -25354650 | D15: =D7-D13 -> 62492300 | E15: =E7-E13 -> 5.8987569e+08 | F15: =F7-F13 -> 2222143204 | G15: =G7-G13 -> 5.5030214e+09
A16: EBITDA % to Sales | C16: =C15/C$4 -> -0.96643631 | D16: =D15/D$4 -> 0.27204535 | E16: =E15/E$4 -> 0.5850061 | F16: =F15/F$4 -> 0.67646115 | G16: =G15/G$4 -> 0.7074478
A17: Depreciation & Amortisation | C17: =Capex!C8 -> 813684.48 | D17: =Capex!D8 -> 1596880.3 | E17: =Capex!E8 -> 2363165.6 | F17: =Capex!F8 -> 3324471 | G17: =Capex!G8 -> 4020703.9
A19: EBIT | C19: =C15-C17 -> -26168334 | D19: =D15-D17 -> 60895420 | E19: =E15-E17 -> 5.8751253e+08 | F19: =F15-F17 -> 2.2188187e+09 | G19: =G15-G17 -> 5.4990007e+09
A20: EBIT % to Sales | C20: =C19/C$4 -> -0.99745131 | D20: =D19/D$4 -> 0.26509372 | E20: =E19/E$4 -> 0.58266245 | F20: =F19/F$4 -> 0.67544912 | G20: =G19/G$4 -> 0.70693092
A21: Interest & Bank Charges (Long-term)
A23: Profit before Tax (PBT) | C23: =C19-C21 -> -26168334 | D23: =D19-D21 -> 60895420 | E23: =E19-E21 -> 5.8751253e+08 | F23: =F19-F21 -> 2.2188187e+09 | G23: =G19-G21 -> 5.4990007e+09
A24: PBT % to Sales | C24: =C23/C$4 -> -0.99745131 | D24: =D23/D$4 -> 0.26509372 | E24: =E23/E$4 -> 0.58266245 | F24: =F23/F$4 -> 0.67544912 | G24: =G23/G$4 -> 0.70693092
A25: Income Tax Expense | B25: 0.25 | C25: =IF(C23>0,C23*$B$25,0) -> 0 | D25: =IF(D23>0,D23*$B$25,0) -> 15223855 | E25: =IF(E23>0,E23*$B$25,0) -> 1.4687813e+08 | F25: =IF(F23>0,F23*$B$25,0) -> 5.5470468e+08 | G25: =IF(G23>0,G23*$B$25,0) -> 1.3747502e+09
A27: Profit after Tax (PAT) | C27: =C23-C25 -> -26168334 | D27: =D23-D25 -> 45671565 | E27: =E23-E25 -> 4.406344e+08 | F27: =F23-F25 -> 1.664114e+09 | G27: =G23-G25 -> 4.1242505e+09
A28: PAT % to Sales | C28: =C27/C$4 -> -0.99745131 | D28: =D27/D$4 -> 0.19882029 | E28: =E27/E$4 -> 0.43699683 | F28: =F27/F$4 -> 0.50658684 | G28: =G27/G$4 -> 0.53019819

Sheet Balance Sheet
A1: All figures in INR wherever applicable
A2: Balance Sheet | C2: ='Income Statement'!C2 -> 1 | D2: ='Income Statement'!D2 -> 2 | E2: ='Income Statement'!E2 -> 3 | F2: ='Income Statement'!F2 -> 4 | G2: ='Income Statement'!G2 -> 5
A4: Liabilities
A5: Sources of Funds
A6: Share Capital | C6: 100000 | D6: 100000 | E6: 100000 | F6: 100000 | G6: 100000
A7: Reserves and Surplus | C7: ='Income Statement'!C27 -> -26168334 | D7: ='Income Statement'!D27+'Balance Sheet'!C7 -> 19503230 | E7: ='Income Statement'!E27+'Balance Sheet'!D7 -> 4.6013763e+08 | F7: ='Income Statement'!F27+'Balance Sheet'!E7 -> 2.1242517e+09 | G7: ='Income Statement'!G27+'Balance Sheet'!F7 -> 6.2485022e+09
A8: Sources of funds - Sub-total | C8: =SUM(C6:C7) -> -26068334 | D8: =SUM(D6:D7) -> 19603230 | E8: =SUM(E6:E7) -> 4.6023763e+08 | F8: =SUM(F6:F7) -> 2.1243517e+09 | G8: =SUM(G6:G7) -> 6.2486022e+09
A10: Non-Current Liabilities
A11: Loan
A12: Deferred Tax Liability
A13: Non-Current Liabilities - Sub-total | C13: =C11+C12 -> 0 | D13: =D11+D12 -> 0 | E13: =E11+E12 -> 0 | F13: =F11+F12 -> 0 | G13: =G11+G12 -> 0
A15: Current Liabilities and Provisions
A16: Interest Paid
A17: Short-term Borrowings
A18: Sundry Creditors/Trade payables | C18: =C58 -> 0 | D18: =D58 -> 0 | E18: =E58 -> 0 | F18: =F58 -> 0 | G18: =G58 -> 0
A19: Accrued Expenses & Other Current Liabilities
A20: Tax Provision | C20: ='Income Statement'!C25 -> 0 | D20: ='Income Statement'!D25 -> 15223855 | E20: ='Income Statement'!E25 -> 1.4687813e+08 | F20: ='Income Statement'!F25 -> 5.5470468e+08 | G20: ='Income Statement'!G25 -> 1.3747502e+09
A21: Current Liabilities and Provisions - Sub-total | C21: =SUM(C16:C20) -> 0 | D21: =SUM(D16:D20) -> 15223855 | E21: =SUM(E16:E20) -> 1.4687813e+08 | F21: =SUM(F16:F20) -> 5.5470468e+08 | G21: =SUM(G16:G20) -> 1.3747502e+09
A23: Liabilities - Total | C23: =C8+C13+C21 -> -26068334 | D23: =D8+D13+D21 -> 34827085 | E23: =E8+E13+E21 -> 6.0711576e+08 | F23: =F8+F13+F21 -> 2.6790564e+09 | G23: =G8+G13+G21 -> 7.6233524e+09
A25: Assets
A26: Application of Funds
A27: Fixed Assets
A28: Tangibles & Intangibles | C28: =Capex!C9 -> 9206315.5 | D28: =Capex!D9 -> 1.1263444e+08 | E28: =Capex!E9 -> 1.1630127e+08 | F28: =Capex!F9 -> 1.210168e+08 | G28: =Capex!G9 -> 1.2503609e+08
A29: Deferred Tax Asset (Net)
A30: Other non Current Assets
A31: Application of Funds - Sub-total | C31: =SUM(C28:C30) -> 9206315.5 | D31: =SUM(D28:D30) -> 1.1263444e+08 | E31: =SUM(E28:E30) -> 1.1630127e+08 | F31: =SUM(F28:F30) -> 1.210168e+08 | G31: =SUM(G28:G30) -> 1.2503609e+08
A33: Current Assets, Loans and Advances
A34: Cash & Bank Balance | C34: ='Cash Flow Statements'!C36 -> -52525192 | D34: ='Cash Flow Statements'!D36 -> -2.2885138e+08 | E34: ='Cash Flow Statements'!E36 -> -1.7219307e+08 | F34: ='Cash Flow Statements'!F36 -> 3.9807033e+08 | G34: ='Cash Flow Statements'!G36 -> 2.3835573e+09
A35: Trade Receivables | C35: =C59 -> 17250542 | D35: =D59 -> 1.5104403e+08 | E35: =E59 -> 6.6300756e+08 | F35: =F59 -> 2.1599692e+09 | G35: =G59 -> 5.114759e+09
A36: Other Current Assets
A37: Inventories | C37: =C60 -> 0 | D37: =D60 -> 0 | E37: =E60 -> 0 | F37: =F60 -> 0 | G37: =G60 -> 0
A38: Current Assets, Loans and Advances - Sub-total | C38: =SUM(C34:C37) -> -35274650 | D38: =SUM(D34:D37) -> -77807350 | E38: =SUM(E34:E37) -> 4.9081449e+08 | F38: =SUM(F34:F37) -> 2.5580396e+09 | G38: =SUM(G34:G37) -> 7.4983163e+09
A40: Assets - Total | C40: =C31+C38 -> -26068334 | D40: =D31+D38 -> 34827085 | E40: =E31+E38 -> 6.0711576e+08 | F40: =F31+F38 -> 2.6790564e+09 | G40: =G31+G38 -> 7.6233524e+09
A42: Net Current Assets | C42: =C38-C21 -> -35274650 | D42: =D38-D21 -> -93031205 | E42: =E38-E21 -> 3.4393636e+08 | F42: =F38-F21 -> 2.0033349e+09 | G42: =G38-G21 -> 6.1235661e+09
A44: Changes to Working Capital
A45: Current Assets (Net of Cash) | C45: =SUM(C35:C37) -> 17250542 | D45: =SUM(D35:D37) -> 1.5104403e+08 | E45: =SUM(E35:E37) -> 6.6300756e+08 | F45: =SUM(F35:F37) -> 2.1599692e+09 | G45: =SUM(G35:G37) -> 5.114759e+09
A46: Current Liabilities | C46: =SUM(C18:C19) -> 0 | D46: =SUM(D18:D19) -> 0 | E46: =SUM(E18:E19) -> 0 | F46: =SUM(F18:F19) -> 0 | G46: =SUM(G18:G19) -> 0
A47: Working Capital Requirement (Net of Cash) | C47: =C45-C46 -> 17250542 | D47: =D45-D46 -> 1.5104403e+08 | E47: =E45-E46 -> 6.6300756e+08 | F47: =F45-F46 -> 2.1599692e+09 | G47: =G45-G46 -> 5.114759e+09
A49: Check | C49: =C40-C23 -> 0 | D49: =D40-D23 -> 0 | E49: =E40-E23 -> 0 | F49: =F40-F23 -> 0 | G49: =G40-G23 -> 0
C53: Days
...

Sheet Cash Flow Statements
